BEGIN:VCALENDAR
VERSION:2.0
PRODID:-//Miriam Hanika - ECPv6.15.20//NONSGML v1.0//EN
CALSCALE:GREGORIAN
METHOD:PUBLISH
X-WR-CALNAME:Miriam Hanika
X-ORIGINAL-URL:https://miriamhanika.de
X-WR-CALDESC:Veranstaltungen für Miriam Hanika
REFRESH-INTERVAL;VALUE=DURATION:PT1H
X-Robots-Tag:noindex
X-PUBLISHED-TTL:PT1H
BEGIN:VTIMEZONE
TZID:Europe/Berlin
BEGIN:DAYLIGHT
TZOFFSETFROM:+0100
TZOFFSETTO:+0200
TZNAME:CEST
DTSTART:20250330T010000
END:DAYLIGHT
BEGIN:STANDARD
TZOFFSETFROM:+0200
TZOFFSETTO:+0100
TZNAME:CET
DTSTART:20251026T010000
END:STANDARD
BEGIN:DAYLIGHT
TZOFFSETFROM:+0100
TZOFFSETTO:+0200
TZNAME:CEST
DTSTART:20260329T010000
END:DAYLIGHT
BEGIN:STANDARD
TZOFFSETFROM:+0200
TZOFFSETTO:+0100
TZNAME:CET
DTSTART:20261025T010000
END:STANDARD
BEGIN:DAYLIGHT
TZOFFSETFROM:+0100
TZOFFSETTO:+0200
TZNAME:CEST
DTSTART:20270328T010000
END:DAYLIGHT
BEGIN:STANDARD
TZOFFSETFROM:+0200
TZOFFSETTO:+0100
TZNAME:CET
DTSTART:20271031T010000
END:STANDARD
END:VTIMEZONE
BEGIN:VEVENT
DTSTART;TZID=Europe/Berlin:20260509T200000
DTEND;TZID=Europe/Berlin:20260509T220000
DTSTAMP:20260425T150942
CREATED:20251211T102939Z
LAST-MODIFIED:20260311T061330Z
UID:7630-1778356800-1778364000@miriamhanika.de
SUMMARY:Kitzingen: Miriam Hanika & das kleine Poesie Orchester – *innenleben
DESCRIPTION:Aus einem Konzert von Miriam Hanika geht man immer anders heraus\, als man hineingekommen ist. Die außergewöhnliche Multiinstrumentalistin berührt mit warm strahlenden Liedern\, die sich solo am Klavier oder mit ihrer Band voll entfalten. Das vielfach ausgezeichnete musikalische Multitalent präsentiert ihr aktuelles Album. innenleben ist eine poetische Suche nach Menschlichkeit und universeller Weiblichkeit – intensiv\, feinfühlig und bewegend. \nMit:\nMiriam Hanika: Gesang\, Oboe\, Englischhorn\, Piano\nElisa von Wallis: Cello\, Bass\, Backingvocals\nMisha Antonov: Piano\, Bass\, Ukulele\nSimon Popp: Schlagzeug\, Percussion\, Bass
URL:https://miriamhanika.de/konzert/kitzingen-miriam-hanika-das-kleine-poesie-orchester-innenleben/
LOCATION:Alte Synagoge\, Landwehrstraße 1\, Kitzingen\, 97318
END:VEVENT
BEGIN:VEVENT
DTSTART;VALUE=DATE:20260522
DTEND;VALUE=DATE:20260526
DTSTAMP:20260425T150942
CREATED:20260312T102550Z
LAST-MODIFIED:20260312T102550Z
UID:7739-1779408000-1779753599@miriamhanika.de
SUMMARY:Bad Gastein: Chansonfestival (Solo)
DESCRIPTION:Infos folgen.
URL:https://miriamhanika.de/konzert/bad-gastein-chansonfestival-solo-2/
LOCATION:Grand Hotel Straubinger\, Kaiser-Franz-Josef-Straße 27\, Bad Gastein\, 5640\, Österreich
END:VEVENT
BEGIN:VEVENT
DTSTART;TZID=Europe/Berlin:20260606T200000
DTEND;TZID=Europe/Berlin:20260606T220000
DTSTAMP:20260425T150942
CREATED:20251211T103318Z
LAST-MODIFIED:20251211T103318Z
UID:7635-1780776000-1780783200@miriamhanika.de
SUMMARY:Coesfeld: Miriam Hanika & das kleine Poesie Orchester – *innenleben
DESCRIPTION:Infos folgen.
URL:https://miriamhanika.de/konzert/coesfeld-miriam-hanika-das-kleine-poesie-orchester-innenleben/
LOCATION:Evangelische Kirche
END:VEVENT
BEGIN:VEVENT
DTSTART;TZID=Europe/Berlin:20260607T190000
DTEND;TZID=Europe/Berlin:20260607T210000
DTSTAMP:20260425T150942
CREATED:20251211T103600Z
LAST-MODIFIED:20260311T062241Z
UID:7638-1780858800-1780866000@miriamhanika.de
SUMMARY:Wendelstein: Miriam Hanika & das kleine Poesie Orchester – *innenleben
DESCRIPTION:Mit „*innenleben“ legt Miriam Hanika ein Werk vor\, das ihre vielfältigen Talente als Instrumentalistin\, Komponistin\, Texterin und Sängerin auf eindrucksvolle Weise vereint. Ihre synkretistische Kunstform – das Zusammenspiel von Wort\, Stimme und Musik – kommt auf diesem Album besonders stark zum Ausdruck. \nHanika interpretiert ihre Lieder mit großer Ausdruckskraft\, beinahe mit schauspielerischem Feingefühl\, ohne dabei den Bezug zur musikalischen Tradition zu verlieren. Ihre Kompositionen und Arrangements verweben eindrucksvolle Klangbilder\, solistische Passagen und einen farbenreichen Kosmos aus zeitgenössischer Weltmusik und Songwriting. \nDas Besondere: Alles wirkt stimmig und authentisch – nichts klingt konstruiert oder folkloristisch überzeichnet. Stattdessen ist ein berührendes\, tiefgründiges Werk entstanden\, das sich an den Grenzen von Genres und Kulturen bewegt und dabei einen ganz eigenen\, poetischen Ton trifft. Ein Album voller Gefühl und künstlerischer Klarheit – hörenswert und bewegend.\nJazz-fun\, 08.06.2025 \nSie ist eine Meisterin der leisen Töne\, die aber umso nachdrücklicher widerhallen. „Wir müssen in der Gesellschaft wieder zur Einheit finden\, um die großen Herausforderungen anzugehen\, das erreichen wir nicht durch die Aggressivität der Politik“\, mahnt die aufstrebende deutsche Liedermacherin Miriam Hanika. \nMittel der Versöhnung ist für die 35-Jährige die Kraft der Sprache und der Musik\, mit ihrer Leidenschaft für solche Themen unterstreicht sie die wachsende Qualität in der Liedermacherszene. Die in München lebende Künstlerin ist ein Freigeist im wahrsten Sinne des Wortes. Sie sprüht voller Ideen und Themen\, die sich kreativ ausdrücken wollen. \nMit:\nMiriam Hanika: Gesang\, Oboe\, Englischhorn\, Piano\nElisa von Wallis: Cello\, Bass\, Backingvocals\nMisha Antonov: Piano\, Bass\, Ukulele
URL:https://miriamhanika.de/konzert/wendelstein-miriam-hanika-das-kleine-poesie-orchester-innenleben/
LOCATION:Casa De La Trova\, Zum Sportheim 13\, Wendelstein\, 90530
END:VEVENT
BEGIN:VEVENT
DTSTART;TZID=Europe/Berlin:20260612T193000
DTEND;TZID=Europe/Berlin:20260612T220000
DTSTAMP:20260425T150942
CREATED:20260120T093317Z
LAST-MODIFIED:20260120T093753Z
UID:7668-1781292600-1781301600@miriamhanika.de
SUMMARY:Straubing: Dandelion Quintett – Kontext und Kontrast
DESCRIPTION:Auf der Suche nach natürlicher Leichtigkeit verkörpert das 2018 in München gegründete Dandelion Quintett\nVirtuosität und Spielfreude in einer farbenreichen Klangvielfalt\, wie man sie im Bereich der Kammermusik nur\nbeim Holzbläserquintett erleben kann.\nDas Ensemble studierte an der HfMT München in der Kammermusik-Klasse von Prof. Reto Bieri und erhielt in\nder Vergangenheit u.A. Impulse von Eberhard Marschall\, Andrea Lieberknecht\, Eberhard Feltz\, Konstantia\nGourzi und Dag Jensen.\nDas Dandelion Quintett konzertiert regelmäßig im In- und Ausland\, so z.B. 2019 gemeinsam mit Margarita\nHöhenrieder im Bibiliotheksaal Polling\, 2023 als Nachwuchskünstler auf dem renommierten Kammermusikfest\nLockenhaus und 2024 beim Festival junger Künstler Bayreuth und den Tiroler Festspielen Erl. Das Dandelion\nQuintett ist 1. Preisträger beim internationalen Wettbewerb Ars Ventus BIMC 2019 für Holzbläserquintett\, den es\nmit der höchsten vergebenen Punktzahl gewann.\n2023 präsentiert das Ensemble gemeinsam mit dem Kollektiv Feet Become Ears eine Kammermusikreihe für\nzeitgenössische Musik. In diesem Rahmen vergab das Quintett zahlreiche Kompositionsaufträge an junge\nKomponist*innen\, die es im Februar 2023 im Zentrum für interdisziplinäre Raum- und Kulturarbeit (Zirka) in\nMünchen uraufführte.\n2024 erhielt das Dandelion Quintett das Stipendium für Musik der Landeshauptstadt München. Im gleichen Jahr\nveröffentlichten die fünf Musiker ihr Debut-Album Windspiel gemeinsam mit dem in Wien ansässigen Label col\nlegno. Im Frühjahr 2026 erscheint ein zweites Album in Kooperation mit dem Bayrischen Rundfunk. \nDandelion Holzbläserquintett: Natalia Karaszewska\, Flöte; Miriam Hanika\, Oboe; Maximilian Strutynski\, Klarinette; Kaspar Reh\, Fagott; Dorothea Bender\, Horn \nEinführung und Künstlergespräch: Markus Schmitt
URL:https://miriamhanika.de/konzert/straubing-dandelion-quintett-windspiel/
LOCATION:Herzogschloss\, Schlossplatz 2b\, Straubing\, 94315
END:VEVENT
BEGIN:VEVENT
DTSTART;TZID=Europe/Berlin:20260613T190000
DTEND;TZID=Europe/Berlin:20260613T210000
DTSTAMP:20260425T150942
CREATED:20260120T094156Z
LAST-MODIFIED:20260120T094156Z
UID:7673-1781377200-1781384400@miriamhanika.de
SUMMARY:Metten: Dandelion Quintett – Kontext und Kontrast
DESCRIPTION:Auf der Suche nach natürlicher Leichtigkeit verkörpert das 2018 in München gegründete Dandelion Quintett\nVirtuosität und Spielfreude in einer farbenreichen Klangvielfalt\, wie man sie im Bereich der Kammermusik nur\nbeim Holzbläserquintett erleben kann.\nDas Ensemble studierte an der HfMT München in der Kammermusik-Klasse von Prof. Reto Bieri und erhielt in\nder Vergangenheit u.A. Impulse von Eberhard Marschall\, Andrea Lieberknecht\, Eberhard Feltz\, Konstantia\nGourzi und Dag Jensen.\nDas Dandelion Quintett konzertiert regelmäßig im In- und Ausland\, so z.B. 2019 gemeinsam mit Margarita\nHöhenrieder im Bibiliotheksaal Polling\, 2023 als Nachwuchskünstler auf dem renommierten Kammermusikfest\nLockenhaus und 2024 beim Festival junger Künstler Bayreuth und den Tiroler Festspielen Erl. Das Dandelion\nQuintett ist 1. Preisträger beim internationalen Wettbewerb Ars Ventus BIMC 2019 für Holzbläserquintett\, den es\nmit der höchsten vergebenen Punktzahl gewann.\n2023 präsentiert das Ensemble gemeinsam mit dem Kollektiv Feet Become Ears eine Kammermusikreihe für\nzeitgenössische Musik. In diesem Rahmen vergab das Quintett zahlreiche Kompositionsaufträge an junge\nKomponist*innen\, die es im Februar 2023 im Zentrum für interdisziplinäre Raum- und Kulturarbeit (Zirka) in\nMünchen uraufführte.\n2024 erhielt das Dandelion Quintett das Stipendium für Musik der Landeshauptstadt München. Im gleichen Jahr\nveröffentlichten die fünf Musiker ihr Debut-Album Windspiel gemeinsam mit dem in Wien ansässigen Label col\nlegno. Im Frühjahr 2026 erscheint ein zweites Album in Kooperation mit dem Bayrischen Rundfunk. \nDandelion Holzbläserquintett: Natalia Karaszewska\, Flöte; Miriam Hanika\, Oboe; Maximilian Strutynski\, Klarinette; Kaspar Reh\, Fagott; Dorothea Bender\, Horn \nEinführung und Künstlergespräch: Markus Schmitt
URL:https://miriamhanika.de/konzert/metten-dandelion-quintett-kontext-und-kontrast/
LOCATION:Festsaal Metten\, Metten\, 94526
END:VEVENT
BEGIN:VEVENT
DTSTART;TZID=Europe/Berlin:20260614T183000
DTEND;TZID=Europe/Berlin:20260614T203000
DTSTAMP:20260425T150942
CREATED:20260205T102939Z
LAST-MODIFIED:20260205T102939Z
UID:7707-1781461800-1781469000@miriamhanika.de
SUMMARY:Harzburg: Dandelion Quintett – Windspiel
DESCRIPTION:Werke u. a. von Danzi\, Zemlinsky und Ligeti \n\n\nDandelion\, der Löwenzahn\, ist eine allseits bekannte Pflanze\, die Wiesen und Felder ziert und mehrere Entwicklungsstadien durchläuft\, bis schließlich die reifen Samen\, dank der Kraft des Windes\, durch die Weite der Landschaft geweht werden. Das Dandelion Quintett hat sich nach dieser Blume benannt und verkörpert im übertragenen Sinn auch ihre Eigenschaften. Denn mit natürlicher Leichtigkeit führt das junge Holzbläserquintett Virtuosität und Spielfreude zusammen\, um daraus eine farbenreiche Klanglandschaft zu kreieren. \nDas 2018 in München gegründete Ensemble studierte an der Hochschule für Musik und Theater München in der Kammermusik-Klasse von Prof. Reto Bieri und erhielt in der Vergangenheit u. a. Impulse von Eberhard Marschall\, Andrea Lieberknecht\, Eberhard Feltz\, Konstantia Gourzi und Dag Jensen. \nDas Dandelion Quintett konzertiert regelmäßig im In- und Ausland\, so z.B. 2023 als Nachwuchskünstler auf dem renommierten Kammermusikfest Lockenhaus und 2024 beim Festival junger Künstler Bayreuth und den Tiroler Festspielen Erl. Das Dandelion Quintett ist 1. Preisträger beim internationalen Wettbewerb Ars Ventus BIMC 2019 für Holzbläserquintett\, den es mit der Höchstpunktzahl gewann. \n2023 präsentiert das Ensemble gemeinsam mit dem Kollektiv „Feet Become Ears“ eine Kammermusikreihe für zeitgenössische Musik. 2024 erhielt das Quintett das Stipendium für Musik der Landeshauptstadt München. Im gleichen Jahr veröffentlichten die fünf Musiker ihr Debut-Album Windspiel gemeinsam mit dem in Wien ansässigen Label „col legno“ und bald erscheint ihr zweites Album in Kooperation mit dem Bayrischen Rundfunk.
URL:https://miriamhanika.de/konzert/harzburg-dandelion-quintett-windspiel/
LOCATION:Bündheimer Schloss\, Gestütstraße 10\, Bad Harzburg\, 38667
END:VEVENT
BEGIN:VEVENT
DTSTART;TZID=Europe/Berlin:20260801T200000
DTEND;TZID=Europe/Berlin:20260801T220000
DTSTAMP:20260425T150942
CREATED:20260120T092424Z
LAST-MODIFIED:20260120T092424Z
UID:7664-1785614400-1785621600@miriamhanika.de
SUMMARY:Neustadt a.d. Aisch: Miriam Hanika & das kleine Poesie Orchester – *innenleben
DESCRIPTION:Aus einem Konzert dieser außergewöhnlichen Multiinstrumentalistin geht man immer anders heraus\, als man hinein gekommen ist. \nMiriam Hanikas Lieder und ihr Instrument\, die Oboe\, sind füreinander geschaffen\, wie eine eigene\nkleinen Bastion gegen jeden Dualismus. Ob solo am Klavier oder mit ihrer mitreißenden Band –\nihre berührenden Lieder haben eine wärmende Strahlkraft\, der man sich nicht entziehen kann. \nAls musikalisches Multitalent ist sie Preisträgerin zahlreicher Wettbewerbe (u. a. Peter-RohlandSinge-Wettstreit\, Friedenssong-Wettbewerb Bonn). Im Jahr 2024 wurde sie mit dem Förderpreis\nfür junge Liedermacher der Hanns-Seidel-Stiftung ausgezeichnet.\n2021 erhielt Miriam Hanika das Stipendium für Musik der Stadt München. Mit dem Dandelion\nQuintett gewann sie im Rahmen des internationalen Ars Ventus Wettbewerbs für Kammermusik\n2019 den ersten Preis. \nIhr zweites Album »Louise« (2021) wurde für den Deutschen Schallplattenpreis nominiert. Seit\n2018 veröffentlichte sie unter Konstantin Weckers Label Sturm & Klang. Ihr aktuelles Album\n*innenleben erschien nun auf ihrem eigenen Label LOUISE. Hier begibt sich die Musikerin auf die\nSuche nach der universellen Weiblichkeit – immer auf den Spuren eines verbindenden Equalismus. \n»Kunstlieder mit emotionaler Intelligenz.« (Rolling Stone) \n»Ihre Sprachkunst erinnert an die Gedichte einer Mascha Kaléko oder eines Erich Kästners.«\n(WDR4) \nMit:\nMiriam Hanika: Gesang\, Oboe\, Englischhorn\, Piano\nElisa von Wallis: Cello\, Bass\, Backingvocals\nMisha Antonov: Piano\, Bass\, Ukulele\nSimon Popp: Schlagzeug\, Percussion\, Bass
URL:https://miriamhanika.de/konzert/neustadt-a-d-aisch-miriam-hanika-das-kleine-poesie-orchester-innenleben/
LOCATION:Neustädter Schlosshof\, Untere Schlossgasse 8\, Neustadt a.d.Aisch\, 91413
END:VEVENT
BEGIN:VEVENT
DTSTART;TZID=Europe/Berlin:20260905T190000
DTEND;TZID=Europe/Berlin:20260905T210000
DTSTAMP:20260425T150942
CREATED:20251211T104307Z
LAST-MODIFIED:20260311T062703Z
UID:7643-1788634800-1788642000@miriamhanika.de
SUMMARY:Münden: Miriam Hanika & das kleine Poesie Orchester – *innenleben
DESCRIPTION:Aus einem Konzert dieser außergewöhnlichen Multiinstrumentalistin geht man immer anders heraus\, als man hineingekommen ist. Die preisgekrönte Oboistin und Singer – Songwriterin Miriam Hanika begeistert mit ihrem einzigartigen Stil\, der klassische Virtualität mit poetischer Liedkunst verbindet. Durch ihren spielenden Wechsel zwischen Gesang\, Oboe\, Englischhorn und Klavier ist sie eine große Ausnahmeerscheinung\, die als musikalisches Multitalent neue Maßstäbe setzt. Lyrische Texte\, ein warmer Oboenton und außergewöhnliche Arrangements\, solistisch oder mit dem Poesie-Orchester oder als Trio. Seit März 2025 ist sie mit ihrem Programm *Innenleben“ auf Tour. Mit ihrem neuen Album rückt sie die Suche nach Identität in einer kälter werdenden Welt in den Mittelpunkt. Das Besondere daran ist: Alles wirkt stimmig und authentisch; „ein berührendes\, tiefgründiges Werk\, das sich an den Grenzen von Genres und Kulturen bewegt und dabei einen ganz eigenen poetischen Ton trifft.“ Begleitet wird Miriam von Elisa Wallis: Cello\, Gesang\, Bass und Misha Antonov: Klavier\, Bass
URL:https://miriamhanika.de/konzert/muenden-miriam-hanika-das-kleine-poesie-orchester-innenleben/
LOCATION:Welfenschloss\, Schloßplatz 10\, Münden\, 34346
END:VEVENT
BEGIN:VEVENT
DTSTART;TZID=Europe/Berlin:20260925T200000
DTEND;TZID=Europe/Berlin:20260925T220000
DTSTAMP:20260425T150942
CREATED:20251211T104615Z
LAST-MODIFIED:20251211T104747Z
UID:7646-1790366400-1790373600@miriamhanika.de
SUMMARY:Schwanstetten: Miriam Hanika & das kleine Poesie Orchester – *innenleben
DESCRIPTION:Aus einem Konzert der vielfach ausgezeichneten Sängerin und Oboistin geht man immer anders heraus\, als man hineingekommen ist. Allein weil man danach weiß\, dass Miriam Hanikas poetisches Universum und ihr seltenes Instrument füreinander geschaffen wurden. Ganz logisch sozusagen. Und trotzdem ungekünstelt progressiv. Ob solo am Klavier oder mit ihrer mitreißenden Band – die Lieder dieser Multiinstrumentalistin leuchten. \nMit:\nMiriam Hanika: Gesang\, Oboe\, Englischhorn\, Piano\nElisa von Wallis: Cello\, Bass\, Backingvocals\,\nMisha Antonov: Piano\, Bass\, Ukulele
URL:https://miriamhanika.de/konzert/schwanstetten-miriam-hanika-das-kleine-poesie-orchester/
LOCATION:Kulturscheune Leerstetten\, Hauptstr. 6a\, Schwanstetten\, 90596
END:VEVENT
BEGIN:VEVENT
DTSTART;VALUE=DATE:20260926
DTEND;VALUE=DATE:20260927
DTSTAMP:20260425T150942
CREATED:20260306T081821Z
LAST-MODIFIED:20260306T081821Z
UID:7725-1790380800-1790467199@miriamhanika.de
SUMMARY:Saarbrücken: Dandelion Quintett – Saarbrücker Sommermusik
DESCRIPTION:Infos folgen.
URL:https://miriamhanika.de/konzert/saarbruecken-dandelion-quintett-saarbruecker-sommermusik/
ORGANIZER;CN="Saarbr%C3%BCcker Sommermusik":MAILTO:https://www.saarbruecken.de/kultur/festivals/saarbruecker_sommermusik
END:VEVENT
BEGIN:VEVENT
DTSTART;TZID=Europe/Berlin:20260929T200000
DTEND;TZID=Europe/Berlin:20260929T220000
DTSTAMP:20260425T150942
CREATED:20260306T082102Z
LAST-MODIFIED:20260306T082102Z
UID:7728-1790712000-1790719200@miriamhanika.de
SUMMARY:München: Dandelion Quintett – Luft nach oben (Releasekonzert)
DESCRIPTION:Infos folgen.
URL:https://miriamhanika.de/konzert/muenchen-dandelion-quintett-luft-nach-oben-releasekonzert/
LOCATION:schwere reiter\, Dachauer Straße 114a\, München\, 80636
END:VEVENT
BEGIN:VEVENT
DTSTART;TZID=Europe/Berlin:20261113T190000
DTEND;TZID=Europe/Berlin:20261113T220000
DTSTAMP:20260425T150942
CREATED:20251211T104921Z
LAST-MODIFIED:20260331T163530Z
UID:7650-1794596400-1794607200@miriamhanika.de
SUMMARY:Dachsbach: Miriam Hanika & das kleine Poesie Orchester – *innenleben
DESCRIPTION:Mit „*innenleben“ legt Miriam Hanika ein Werk vor\, das ihre vielfältigen Talente als Instrumentalistin\, Komponistin\, Texterin und Sängerin auf eindrucksvolle Weise vereint. Ihre synkretistische Kunstform – das Zusammenspiel von Wort\, Stimme und Musik – kommt auf diesem Album besonders stark zum Ausdruck. \nHanika interpretiert ihre Lieder mit großer Ausdruckskraft\, beinahe mit schauspielerischem Feingefühl\, ohne dabei den Bezug zur musikalischen Tradition zu verlieren. Ihre Kompositionen und Arrangements verweben eindrucksvolle Klangbilder\, solistische Passagen und einen farbenreichen Kosmos aus zeitgenössischer Weltmusik und Songwriting. \nDas Besondere: Alles wirkt stimmig und authentisch – nichts klingt konstruiert oder folkloristisch überzeichnet. Stattdessen ist ein berührendes\, tiefgründiges Werk entstanden\, das sich an den Grenzen von Genres und Kulturen bewegt und dabei einen ganz eigenen\, poetischen Ton trifft. Ein Album voller Gefühl und künstlerischer Klarheit – hörenswert und bewegend.\nJazz-fun\, 08.06.2025 \nSie ist eine Meisterin der leisen Töne\, die aber umso nachdrücklicher widerhallen. „Wir müssen in der Gesellschaft wieder zur Einheit finden\, um die großen Herausforderungen anzugehen\, das erreichen wir nicht durch die Aggressivität der Politik“\, mahnt die aufstrebende deutsche Liedermacherin Miriam Hanika. \nMittel der Versöhnung ist für die 35-Jährige die Kraft der Sprache und der Musik\, mit ihrer Leidenschaft für solche Themen unterstreicht sie die wachsende Qualität in der Liedermacherszene. Die in München lebende Künstlerin ist ein Freigeist im wahrsten Sinne des Wortes. Sie sprüht voller Ideen und Themen\, die sich kreativ ausdrücken wollen. \nMit:\nMiriam Hanika: Gesang\, Oboe\, Englischhorn\, Piano\nElisa von Wallis: Cello\, Bass\, Backingvocals\nMisha Antonov: Piano\, Bass\, Ukulele\nSimon Popp: Schlagzeug\, Percussion\, Bass
URL:https://miriamhanika.de/konzert/dachsbach-miriam-hanika-das-kleine-poesie-orchester-innenleben/
LOCATION:Kaffeehaus im Aischgrund\, Schulstraße 2\, Dachsbach\, 91462
END:VEVENT
BEGIN:VEVENT
DTSTART;TZID=Europe/Berlin:20261120T200000
DTEND;TZID=Europe/Berlin:20261120T220000
DTSTAMP:20260425T150942
CREATED:20251211T105209Z
LAST-MODIFIED:20251211T105209Z
UID:7654-1795204800-1795212000@miriamhanika.de
SUMMARY:Friedberg: Miriam Hanika & das kleine Poesie Orchester – *innenleben
DESCRIPTION:Infos folgen.
URL:https://miriamhanika.de/konzert/friedberg-miriam-hanika-das-kleine-poesie-orchester-innenleben/
LOCATION:Altes Hallenbad\, Haagstraße 29\, Friedberg (Hessen)\, 61169
END:VEVENT
BEGIN:VEVENT
DTSTART;TZID=Europe/Berlin:20261128T200000
DTEND;TZID=Europe/Berlin:20261128T220000
DTSTAMP:20260425T150942
CREATED:20260322T100801Z
LAST-MODIFIED:20260322T100801Z
UID:7752-1795896000-1795903200@miriamhanika.de
SUMMARY:Bad Münstereifel: Miriam Hanika & Simon Popp – Auf der Suche nach dem Licht
DESCRIPTION:Miriam Hanika ist in Bad Münstereifel keine Unbekannte mehr. Bereits 2020 und 2022 verzauberte sie das Publikum mit ihrem engelsgleichen Gesang\, ihrer virtuosen Beherrschung der Instrumente und ihren höchst engagierten Texten. \nAm Samstag\, 28. November um 20 Uhr steht sie wieder auf der Bühne im „Kulturhaus theater 1“\, Langenhecke 4 in Bad Münstereifel. \nSie gehört zu den unverwechselbarsten Stimmen der deutschen Musikszene und ihre Lieder verbinden poetische Sprache mit einem einzigartigen musikalischen Klangkosmos. Eine besondere Rolle spielt dabei die Oboe – ein Instrument\, das in diesem musikalischen Umfeld ungewöhnlich ist und ihren Liedern eine ganz eigene Farbe verleiht. \nIhre Konzerte leben von musikalischer Tiefe und einer großen Nähe zum Publikum. \nGemeinsam mit dem Percussionisten Simon Popp gestaltet sie nun im Kulturhaus einen Abend für die Zeit zwischen Schatten und Leuchten.\nIhre Musik wurde mehrfach ausgezeichnet\, 2024 erhielt sie den Förderpreis für junge Liedermacher der Hanns-Seidel-Stiftung\, 2021 das Musikstipendium der Stadt München. Mit dem Dandelion Quintett gewann sie beim internationalen Ars Ventus Wettbewerb für Kammermusik 2019 den ersten Preis. Ihr zweites Album Louise (2021) wurde für den Preis der deutschen Schallplattenkritik nominiert. \nDie Presse lobt sie in den höchsten Tönen:\n„Kunstlieder mit emotionaler Intelligenz.“ (Rolling Stone)\n„Ihre Sprachkunst erinnert an die Gedichte einer Mascha Kaléko oder eines Erich Kästners.“ (WDR4)\n„Musik\, die das Zeug dazu hat\, ewig zu sein.“ (Schall) \nTickets gibt es an der Tageskasse; Kartenzahlung ist nicht möglich. \nEs wird empfohlen\, unter 02257-4414 oder unter kulturhaus@theater-1.de zu reservieren. \nReservierungswünsche\, die erst am Tag der Veranstaltung eingehen\, können möglicherweise nicht mehr berücksichtigt werden. \nPreisinformation: \nEintrittspreis: 25 € / 20 € für Mitglieder im Förderverein Tickets an der Tageskasse\, Kartenzahlung ist nicht möglich\, Reservierung empfohlen
URL:https://miriamhanika.de/konzert/bad-muenstereifel-miriam-hanika-simon-popp-auf-der-suche-nach-dem-licht/
LOCATION:theater 1\, Eschenstraße 75\, Bad Münstereifel\, 53902
END:VEVENT
END:VCALENDAR